BEGIN:VCALENDAR
VERSION:2.0
PRODID:-//Mountain Glen Community - ECPv6.15.20//NONSGML v1.0//EN
CALSCALE:GREGORIAN
METHOD:PUBLISH
X-ORIGINAL-URL:https://mountainglenpoa.org
X-WR-CALDESC:Events for Mountain Glen Community
REFRESH-INTERVAL;VALUE=DURATION:PT1H
X-Robots-Tag:noindex
X-PUBLISHED-TTL:PT1H
BEGIN:VTIMEZONE
TZID:America/New_York
BEGIN:DAYLIGHT
TZOFFSETFROM:-0500
TZOFFSETTO:-0400
TZNAME:EDT
DTSTART:20240310T070000
END:DAYLIGHT
BEGIN:STANDARD
TZOFFSETFROM:-0400
TZOFFSETTO:-0500
TZNAME:EST
DTSTART:20241103T060000
END:STANDARD
BEGIN:DAYLIGHT
TZOFFSETFROM:-0500
TZOFFSETTO:-0400
TZNAME:EDT
DTSTART:20250309T070000
END:DAYLIGHT
BEGIN:STANDARD
TZOFFSETFROM:-0400
TZOFFSETTO:-0500
TZNAME:EST
DTSTART:20251102T060000
END:STANDARD
BEGIN:DAYLIGHT
TZOFFSETFROM:-0500
TZOFFSETTO:-0400
TZNAME:EDT
DTSTART:20260308T070000
END:DAYLIGHT
BEGIN:STANDARD
TZOFFSETFROM:-0400
TZOFFSETTO:-0500
TZNAME:EST
DTSTART:20261101T060000
END:STANDARD
END:VTIMEZONE
BEGIN:VTIMEZONE
TZID:UTC
BEGIN:STANDARD
TZOFFSETFROM:+0000
TZOFFSETTO:+0000
TZNAME:UTC
DTSTART:20240101T000000
END:STANDARD
END:VTIMEZONE
BEGIN:VEVENT
DTSTART;TZID=America/New_York:20250521T153000
DTEND;TZID=America/New_York:20250521T170000
DTSTAMP:20260425T234842
CREATED:20250509T201815Z
LAST-MODIFIED:20250509T211703Z
UID:8800-1747841400-1747846800@mountainglenpoa.org
SUMMARY:Mountain Glen POA Board Meeting
DESCRIPTION:Mountain Glen POA Board Meeting
URL:https://mountainglenpoa.org/event/mg-board-meeting/
LOCATION:Mountain Glen Clubhouse\, NC\, United States
END:VEVENT
BEGIN:VEVENT
DTSTART;TZID=America/New_York:20250526T180000
DTEND;TZID=America/New_York:20250526T210000
DTSTAMP:20260425T234842
CREATED:20250424T230616Z
LAST-MODIFIED:20250522T112456Z
UID:8716-1748282400-1748293200@mountainglenpoa.org
SUMMARY:Mountain Glen Kickoff – Memorial Day Celebration
DESCRIPTION:Fried Chicken to be served as main course along with potluck sides.  Please RSVP and sign up below to bring a side dish\, salad\, or dessert.  Tea and lemonade provided.  BYOB \nOnline RSVP below by noon Thursday\, May 22nd. \nCost is $10 per person \n6:00 – 6:25 Check in and Mix & Mingle\, 6:30 Dinner begins
URL:https://mountainglenpoa.org/event/mountain-glen-kickoff-memorial-day-celebration/
LOCATION:Mountain Glen Clubhouse\, NC\, United States
END:VEVENT
BEGIN:VEVENT
DTSTART;TZID=UTC:20250530T080000
DTEND;TZID=UTC:20250530T170000
DTSTAMP:20260425T234842
CREATED:20250530T213245Z
LAST-MODIFIED:20250530T213245Z
UID:9025-1748592000-1748624400@mountainglenpoa.org
SUMMARY:No Mixed Twilight Golf Scramble Today
DESCRIPTION:
URL:https://mountainglenpoa.org/event/no-mixed-twilight-golf-scramble-today/
END:VEVENT
END:VCALENDAR